BEGIN:VCALENDAR
VERSION:2.0
PRODID:-//Tukios.com/
BEGIN:VEVENT
UID:86d9f26f-dfaa-4823-8b3a-9166d7c79f13@www.guardianfhcremation.com
DTSTAMP:20260424T234410Z
DTSTART:20260518T150000Z
DTEND:20260518T160000Z
SUMMARY:funeral Mass and celebration of life
DESCRIPTION:
URL:https://www.guardianfhcremation.com/obituaries/james-dunn
LOCATION:St. Joan of Arc Catholic Church 22412 Overlake St  St. Clair 
	Shores MI 48080
GEO:42.4528558;-82.9029997
END:VEVENT
END:VCALENDAR