BEGIN:VCALENDAR
VERSION:2.0
PRODID:-//Tukios.com/
BEGIN:VEVENT
UID:301814ee-e3fb-41c4-b7a3-82048a31db70@www.guardianfhcremation.com
DTSTAMP:20260424T234409Z
DTSTART:20260518T143000Z
DTEND:20260518T150000Z
SUMMARY:gathering
DESCRIPTION:
URL:https://www.guardianfhcremation.com/obituaries/james-dunn
LOCATION:St. Joan of Arc Catholic Church 22412 Overlake St  St. Clair 
	Shores MI 48080
GEO:42.4528558;-82.9029997
END:VEVENT
END:VCALENDAR